BEGIN:VCALENDAR
VERSION:2.0
PRODID:-//Squarespace Inc/Squarespace 6//v6//EN
BEGIN:VEVENT
UID:600e30cd37c7a76eda8b6484@squarespace.com
DTSTAMP:20210125T025043Z
DTSTART:20210212T230000Z
DTEND:20210213T010000Z
SUMMARY:Women's Morning High Tea
END:VEVENT
END:VCALENDAR
